BEGIN:VCALENDAR
VERSION:2.0
PRODID:-//Central Pennsylvania Festival of the Arts - ECPv6.15.18//NONSGML v1.0//EN
CALSCALE:GREGORIAN
METHOD:PUBLISH
X-ORIGINAL-URL:https://arts-festival.com
X-WR-CALDESC:Events for Central Pennsylvania Festival of the Arts
REFRESH-INTERVAL;VALUE=DURATION:PT1H
X-Robots-Tag:noindex
X-PUBLISHED-TTL:PT1H
BEGIN:VTIMEZONE
TZID:America/New_York
BEGIN:DAYLIGHT
TZOFFSETFROM:-0500
TZOFFSETTO:-0400
TZNAME:EDT
DTSTART:20250309T070000
END:DAYLIGHT
BEGIN:STANDARD
TZOFFSETFROM:-0400
TZOFFSETTO:-0500
TZNAME:EST
DTSTART:20251102T060000
END:STANDARD
BEGIN:DAYLIGHT
TZOFFSETFROM:-0500
TZOFFSETTO:-0400
TZNAME:EDT
DTSTART:20260308T070000
END:DAYLIGHT
BEGIN:STANDARD
TZOFFSETFROM:-0400
TZOFFSETTO:-0500
TZNAME:EST
DTSTART:20261101T060000
END:STANDARD
BEGIN:DAYLIGHT
TZOFFSETFROM:-0500
TZOFFSETTO:-0400
TZNAME:EDT
DTSTART:20270314T070000
END:DAYLIGHT
BEGIN:STANDARD
TZOFFSETFROM:-0400
TZOFFSETTO:-0500
TZNAME:EST
DTSTART:20271107T060000
END:STANDARD
END:VTIMEZONE
BEGIN:VEVENT
DTSTART;TZID=America/New_York:20260710T190000
DTEND;TZID=America/New_York:20260710T200000
DTSTAMP:20260423T044432
CREATED:20220611T192914Z
LAST-MODIFIED:20260422T151449Z
UID:41376-1783710000-1783713600@arts-festival.com
SUMMARY:Happy Valley Improv (PG-13 Early Show)
DESCRIPTION:Happy Valley Improv is State College’s premier long-form improv troupe\, bringing the spontaneous art of improvisation to Centre County through live performances\, classes\, workshops\, and community outreach. Founded in early 2017 by four improvisers in a church basement\, the group has since grown to over 30 members\, each showcasing a diverse range of improv styles and forms at our home\, The Blue Brick Theatre in Calder Way. If you’ve seen Whose Line Is It Anyway?—it’s like that\, but with our own unique twist! This show will be rated PG-13. \n$ additional cost involved \nSponsored by Urish Popeck.
URL:https://arts-festival.com/event/happy-valley-improv-6/
LOCATION:State Theatre\, 130 West College Avenue\, State College\, PA\, 16801\, United States
CATEGORIES:Friday,State Theatre
END:VEVENT
END:VCALENDAR