BEGIN:VCALENDAR
VERSION:2.0
PRODID:-//Central Pennsylvania Festival of the Arts - ECPv6.15.18//NONSGML v1.0//EN
CALSCALE:GREGORIAN
METHOD:PUBLISH
X-ORIGINAL-URL:https://arts-festival.com
X-WR-CALDESC:Events for Central Pennsylvania Festival of the Arts
REFRESH-INTERVAL;VALUE=DURATION:PT1H
X-Robots-Tag:noindex
X-PUBLISHED-TTL:PT1H
BEGIN:VTIMEZONE
TZID:America/New_York
BEGIN:DAYLIGHT
TZOFFSETFROM:-0500
TZOFFSETTO:-0400
TZNAME:EDT
DTSTART:20250309T070000
END:DAYLIGHT
BEGIN:STANDARD
TZOFFSETFROM:-0400
TZOFFSETTO:-0500
TZNAME:EST
DTSTART:20251102T060000
END:STANDARD
BEGIN:DAYLIGHT
TZOFFSETFROM:-0500
TZOFFSETTO:-0400
TZNAME:EDT
DTSTART:20260308T070000
END:DAYLIGHT
BEGIN:STANDARD
TZOFFSETFROM:-0400
TZOFFSETTO:-0500
TZNAME:EST
DTSTART:20261101T060000
END:STANDARD
BEGIN:DAYLIGHT
TZOFFSETFROM:-0500
TZOFFSETTO:-0400
TZNAME:EDT
DTSTART:20270314T070000
END:DAYLIGHT
BEGIN:STANDARD
TZOFFSETFROM:-0400
TZOFFSETTO:-0500
TZNAME:EST
DTSTART:20271107T060000
END:STANDARD
END:VTIMEZONE
BEGIN:VEVENT
DTSTART;TZID=America/New_York:20260711T110000
DTEND;TZID=America/New_York:20260711T120000
DTSTAMP:20260421T124919
CREATED:20220408T223314Z
LAST-MODIFIED:20260409T150004Z
UID:40328-1783767600-1783771200@arts-festival.com
SUMMARY:State College Municipal Band
DESCRIPTION:The band was formed in 1976 with a group of approximately 80 amateur and semi-professional band members to perform at the Arts Festival. Performing four free indoor concerts per year\, the band’s repertoire ranges from pop songs to standard band classics\, including overtures\, transcriptions\, and marches.
URL:https://arts-festival.com/event/state-college-municipal-band-2/
LOCATION:Sidney Friedman Park\, 241 South Fraser Street\, State College\, PA\, 16801\, United States
CATEGORIES:Saturday,Sidney Friedman Park
END:VEVENT
BEGIN:VEVENT
DTSTART;TZID=America/New_York:20260711T130000
DTEND;TZID=America/New_York:20260711T140000
DTSTAMP:20260421T124919
CREATED:20210615T003816Z
LAST-MODIFIED:20260416T153728Z
UID:37120-1783774800-1783778400@arts-festival.com
SUMMARY:The Triple A Blues Band
DESCRIPTION:Started in 1991 among vintage blues recordings and electric instrument enthusiasts Andy Tolins\, Pete “Jukester” Sheridan\, and Dave Mudgett\, the Triple A Blues Band first performance was at the 1991 Central PA Festival of the Arts on a stage near the State College Post Office where the Sidney Friedman Park Stage is now. \nThe band expanded to include Bill Stetz(bass) on our first gig at the Brewery in State College\, with Jack Wilkinson on drums . Moving to Zeno’s Pub Ronnie Wasco and Curt Krebs took over on bass and drums . \nThe band still performs regularly in central PA. Check the local SC venue’s for our next show.
URL:https://arts-festival.com/event/triple-a-blues-band/
LOCATION:Sidney Friedman Park\, 241 South Fraser Street\, State College\, PA\, 16801\, United States
CATEGORIES:Saturday,Sidney Friedman Park
END:VEVENT
BEGIN:VEVENT
DTSTART;TZID=America/New_York:20260711T170000
DTEND;TZID=America/New_York:20260711T183000
DTSTAMP:20260421T124919
CREATED:20230417T145841Z
LAST-MODIFIED:20260409T150513Z
UID:44067-1783789200-1783794600@arts-festival.com
SUMMARY:Matt Otis and the Sound
DESCRIPTION:Matt Otis and the Sound are a high-energy four-piece band from Bedford\, PA\, powered by the visceral songwriting of Matt Otis and the passionately talented violin work of Lancaster’s Robin Chambers. Backed by the drive of Rik Golden on upright bass and the rhythmic precision of drummer Ron Brode\, the band harnesses a unique Appalachian signature\, blending roots-driven textures with a modern indie-rock pulse. This fusion of catchy\, thought-provoking anthems and explosive stage presence creates an immediate\, magnetic connection with every audience. Violinist Robin’s passionate\, kinetic vitality perfectly complements Matt’s intensity and the rhythm section’s steady groove\, turning their folk-rooted set into a captivating visual and sonic experience. It is this unique energy and intellectual depth that defines their live show.
URL:https://arts-festival.com/event/matt-otis-and-the-sound/
LOCATION:Sidney Friedman Park\, 241 South Fraser Street\, State College\, PA\, 16801\, United States
CATEGORIES:Saturday,Sidney Friedman Park
END:VEVENT
END:VCALENDAR