BEGIN:VCALENDAR
VERSION:2.0
PRODID:-//Central Pennsylvania Festival of the Arts - ECPv6.15.18//NONSGML v1.0//EN
CALSCALE:GREGORIAN
METHOD:PUBLISH
X-WR-CALNAME:Central Pennsylvania Festival of the Arts
X-ORIGINAL-URL:https://arts-festival.com
X-WR-CALDESC:Events for Central Pennsylvania Festival of the Arts
REFRESH-INTERVAL;VALUE=DURATION:PT1H
X-Robots-Tag:noindex
X-PUBLISHED-TTL:PT1H
BEGIN:VTIMEZONE
TZID:America/New_York
BEGIN:DAYLIGHT
TZOFFSETFROM:-0500
TZOFFSETTO:-0400
TZNAME:EDT
DTSTART:20250309T070000
END:DAYLIGHT
BEGIN:STANDARD
TZOFFSETFROM:-0400
TZOFFSETTO:-0500
TZNAME:EST
DTSTART:20251102T060000
END:STANDARD
BEGIN:DAYLIGHT
TZOFFSETFROM:-0500
TZOFFSETTO:-0400
TZNAME:EDT
DTSTART:20260308T070000
END:DAYLIGHT
BEGIN:STANDARD
TZOFFSETFROM:-0400
TZOFFSETTO:-0500
TZNAME:EST
DTSTART:20261101T060000
END:STANDARD
BEGIN:DAYLIGHT
TZOFFSETFROM:-0500
TZOFFSETTO:-0400
TZNAME:EDT
DTSTART:20270314T070000
END:DAYLIGHT
BEGIN:STANDARD
TZOFFSETFROM:-0400
TZOFFSETTO:-0500
TZNAME:EST
DTSTART:20271107T060000
END:STANDARD
END:VTIMEZONE
BEGIN:VEVENT
DTSTART;TZID=America/New_York:20260708T100000
DTEND;TZID=America/New_York:20260708T110000
DTSTAMP:20260423T021524
CREATED:20250522T132415Z
LAST-MODIFIED:20260422T131319Z
UID:49828-1783504800-1783508400@arts-festival.com
SUMMARY:Yoga Lab
DESCRIPTION:Come experience our kid-friendly yoga and meditation as a way to bond with your little one through playful expression.
URL:https://arts-festival.com/event/yoga-lab-2/
LOCATION:Old Main Lawn\, 100 W. College Avenue\, State College\, PA\, 16801\, United States
CATEGORIES:Old Main Lawn,Wednesday
END:VEVENT
END:VCALENDAR