BEGIN:VCALENDAR
VERSION:2.0
PRODID:-//Central Pennsylvania Festival of the Arts - ECPv6.15.18//NONSGML v1.0//EN
CALSCALE:GREGORIAN
METHOD:PUBLISH
X-WR-CALNAME:Central Pennsylvania Festival of the Arts
X-ORIGINAL-URL:https://arts-festival.com
X-WR-CALDESC:Events for Central Pennsylvania Festival of the Arts
REFRESH-INTERVAL;VALUE=DURATION:PT1H
X-Robots-Tag:noindex
X-PUBLISHED-TTL:PT1H
BEGIN:VTIMEZONE
TZID:America/New_York
BEGIN:DAYLIGHT
TZOFFSETFROM:-0500
TZOFFSETTO:-0400
TZNAME:EDT
DTSTART:20250309T070000
END:DAYLIGHT
BEGIN:STANDARD
TZOFFSETFROM:-0400
TZOFFSETTO:-0500
TZNAME:EST
DTSTART:20251102T060000
END:STANDARD
BEGIN:DAYLIGHT
TZOFFSETFROM:-0500
TZOFFSETTO:-0400
TZNAME:EDT
DTSTART:20260308T070000
END:DAYLIGHT
BEGIN:STANDARD
TZOFFSETFROM:-0400
TZOFFSETTO:-0500
TZNAME:EST
DTSTART:20261101T060000
END:STANDARD
BEGIN:DAYLIGHT
TZOFFSETFROM:-0500
TZOFFSETTO:-0400
TZNAME:EDT
DTSTART:20270314T070000
END:DAYLIGHT
BEGIN:STANDARD
TZOFFSETFROM:-0400
TZOFFSETTO:-0500
TZNAME:EST
DTSTART:20271107T060000
END:STANDARD
END:VTIMEZONE
BEGIN:VEVENT
DTSTART;TZID=America/New_York:20260710T100000
DTEND;TZID=America/New_York:20260710T190000
DTSTAMP:20260419T100424
CREATED:20260416T151753Z
LAST-MODIFIED:20260416T151753Z
UID:51923-1783677600-1783710000@arts-festival.com
SUMMARY:Chip Mock Caricatures
DESCRIPTION:Chip Mock grew up in Johnstown\, Pa.\, admiring and drawing funny likenesses from an early age\, inspired by artists John Johns\, Norman Rockwell\, Mort Drucker\, and Al Hirshfield. \nWhile studying at the Art Institute of Pittsburgh\, Chip attended workshops taught by John Johns\, where he honed his skill for drawing caricatures at festivals and events. After graduation\, Chip moved to the State College area for work in graphic design and advertising in 1981. He started drawing caricatures locally the next year. \nIn 45 years since then he has enjoyed drawing hundreds of thousands of smiling faces! Along with arts festivals throughout the state\, Chip has entertained people of all ages with his caricature skills at parties\, proms\, weddings\, company picnics\, countless Penn State events\, and on cruise ships. \nHis black-and-white style is fast and funny\, always aiming to capture the charm of someone’s personality in their likenesses. He makes the experience of being drawn fun and entertaining for his subjects and especially enjoys their laughter and the laughter of friends and family when his drawing is revealed to them. \nChip finds great satisfaction in knowing his work is still enjoyed\, hanging on walls in homes\, schools\, and offices. \nThere is a cost for this activity.
URL:https://arts-festival.com/event/chip-mock-caricatures-6/
LOCATION:South Allen Street
CATEGORIES:Friday
END:VEVENT
BEGIN:VEVENT
DTSTART;TZID=America/New_York:20260710T113000
DTEND;TZID=America/New_York:20260710T123000
DTSTAMP:20260419T100424
CREATED:20250508T183716Z
LAST-MODIFIED:20260418T132638Z
UID:49655-1783683000-1783686600@arts-festival.com
SUMMARY:Hops & Vines
DESCRIPTION:Jonathan “Hops” McVerry and Christie “Vines” Clancy first started blending rock & roll classics with the carnivorous earworms of the day in Bellefonte’s historic Gamble Mill during the summer of 2013. Over the following 12 years\, they’d perform nearly 700 shows in more than 100 venues across Central Pennsylvania. Paired with hit-or-miss jokes and lots of crowd participation\, the acoustic duo delivers high‑energy tunes that keep audiences clapping\, dancing and singing along. \nSponsored by Keystone Payroll.
URL:https://arts-festival.com/event/hops-vines-2/
LOCATION:Allen Street Stage\, 123 S Allen St\, State College\, PA\, 16801\, United States
CATEGORIES:Allen Street Stage,Friday
END:VEVENT
BEGIN:VEVENT
DTSTART;TZID=America/New_York:20260710T123000
DTEND;TZID=America/New_York:20260710T140000
DTSTAMP:20260419T100424
CREATED:20250418T141949Z
LAST-MODIFIED:20260316T184902Z
UID:49371-1783686600-1783692000@arts-festival.com
SUMMARY:Keystone Big Band
DESCRIPTION:The Keystone Big Band\, formerly known as Keystone Society of Swing\, is a classic big band playing an inspiring repertoire from Count Basie to Oliver Nelson to Quincy Jones\, from blues to ballads to good old fashioned dancing swing.  Musical director Pat O’Neill toured for 5 years with the Dorsey Big Band\, playing the music of both Tommy & Jimmy Dorsey\, and is a connoisseur of American big band music. The band includes emeritus Penn State School of Music faculty\, and several band members are known to local audiences from club gigs with smaller ensembles. Occasionally\, the band features a guest vocalist.  \nSponsored by Nestlerode & Loy.
URL:https://arts-festival.com/event/keystone-big-band-2/
LOCATION:Sidney Friedman Park\, 241 South Fraser Street\, State College\, PA\, 16801\, United States
CATEGORIES:Friday,Sidney Friedman Park
END:VEVENT
BEGIN:VEVENT
DTSTART;TZID=America/New_York:20260710T133000
DTEND;TZID=America/New_York:20260710T143000
DTSTAMP:20260419T100424
CREATED:20250707T151205Z
LAST-MODIFIED:20260316T183841Z
UID:50315-1783690200-1783693800@arts-festival.com
SUMMARY:Laura Boswell Trio
DESCRIPTION:State College native Laura Boswell exhibits a poetic and technical depth that has garnered comparisons to Joni Mitchell\, Fiona Apple\, and Nick Drake. She writes intimate\, contemporary folk music with classical influence that has been described as meditative and within the “chamber-folk” genre (Asheville’s Mountain Xpress). Along with being a singer-songwriter\, Laura has a degree in classical guitar performance and studied piano from a young age. She views music as a bridge to human connection and vulnerability\, as well as a powerful tool for fostering community. The multi-instrumentalist has self-released three albums\, Counting Eyes (2014)\, Fall Away (2017)\, and WellSpring (2022) along with two EP’s. 
URL:https://arts-festival.com/event/laura-boswell/
LOCATION:Allen Street Stage\, 123 S Allen St\, State College\, PA\, 16801\, United States
CATEGORIES:Allen Street Stage,Friday,Thursday
END:VEVENT
BEGIN:VEVENT
DTSTART;TZID=America/New_York:20260710T153000
DTEND;TZID=America/New_York:20260710T163000
DTSTAMP:20260419T100424
CREATED:20220519T152046Z
LAST-MODIFIED:20260418T134750Z
UID:40882-1783697400-1783701000@arts-festival.com
SUMMARY:The Skoal Brothers
DESCRIPTION:The Skoal Brothers is a high energy\, Blues-inspired rock ‘n’ roll band\, playing classic songs from artists such as Jimi Hendrix\, Pink Floyd\, and The Grateful Dead. Currently featuring the iconic Kate Twoey in addition to the lineup of Julian\, JT\, JK and Stubby\, the Skoal Brothers’ long tenure on the State College music scene has endeared them to many generations of local and PSU fans who love to rock. \nSponsored by The Original Waffle Shop
URL:https://arts-festival.com/event/skoal-brothers/
LOCATION:Allen Street Stage\, 123 S Allen St\, State College\, PA\, 16801\, United States
CATEGORIES:Allen Street Stage,Friday
END:VEVENT
BEGIN:VEVENT
DTSTART;TZID=America/New_York:20260710T160000
DTEND;TZID=America/New_York:20260710T173000
DTSTAMP:20260419T100424
CREATED:20260316T161915Z
LAST-MODIFIED:20260316T182051Z
UID:50669-1783699200-1783704600@arts-festival.com
SUMMARY:Happy Valley Jazz Octet
DESCRIPTION:The Happy Valley Jazz Octet returns to State College to bring jazz from the swing\, hard bop\, and cool jazz eras to the Arts Fest! Inspired by jazz legends like Charles Mingus\, Gerry Mulligan\, and Count Basie\, the octet is led by State College native Gabriel Herrera and features some of Central Pennsylvania’s leading jazz musicians.  \n 
URL:https://arts-festival.com/event/happy-valley-jazz-octet/
LOCATION:Festival Shell Stage\, 100 W. College Avenue\, State College\, PA\, 16801\, United States
CATEGORIES:Festival Shell Stage,Friday
END:VEVENT
BEGIN:VEVENT
DTSTART;TZID=America/New_York:20260710T170000
DTEND;TZID=America/New_York:20260710T183000
DTSTAMP:20260419T100424
CREATED:20260316T185218Z
LAST-MODIFIED:20260316T185218Z
UID:50682-1783702800-1783708200@arts-festival.com
SUMMARY:Minas - Brazilian Jazz Quartet
DESCRIPTION:For an impressive four decades\, Minas has stood as a beacon of excellence in the realms of world music and Brazilian Jazz in the United States\, captivating audiences in the Northeast and beyond. Spearheaded by the husband and wife duo of Orlando Haddad and Patricia King\, this renowned ensemble has released eight CDs that showcase both original compositions and timeless Brazilian classics. The harmonious interplay between Patricia’s enchanting piano and vocals and Orlando’s masterful nylon-string guitar and sensual Portuguese vocals\, creates an atmosphere that resonates with the depth of their lifelong partnership. Over the years\, Minas has cultivated a distinguished reputation as one of the most enduring and sought-after Brazilian music groups in the United States\, gracing prestigious stages such as The Kennedy Center\, Lincoln Center\, and Kimmel Center. Their remarkable discography\, featuring two vinyl releases and eight CDs\, has garnered multiple Grammy indications and is readily accessible on streaming platforms worldwide\, allowing their inspiring music to reach hearts everywhere. Drawing from Brazilian traditions of samba\, bossa nova\,  combined with American jazz\, blues\, and folk\, as well as classical music\, Minas mixes north and south seamlessly. \n 
URL:https://arts-festival.com/event/minas-brazilian-jazz-quartet/
LOCATION:Sidney Friedman Park\, 241 South Fraser Street\, State College\, PA\, 16801\, United States
CATEGORIES:Friday,Sidney Friedman Park
END:VEVENT
BEGIN:VEVENT
DTSTART;TZID=America/New_York:20260710T173000
DTEND;TZID=America/New_York:20260710T183000
DTSTAMP:20260419T100424
CREATED:20220408T184129Z
LAST-MODIFIED:20260316T184040Z
UID:40300-1783704600-1783708200@arts-festival.com
SUMMARY:Ted McCloskey and the Hi-Fi's
DESCRIPTION:Ted McCloskey has been telling compelling stories to local and national audiences for years. He is a singer/songwriter\, a multi-instrumentalist\, a producer and film/television composer. He has sixteen records to his name alone including 2025’s critically acclaimed Four More on the Floor. His music has been featured on hundreds of network and cable programs and he’s shared the stage with the likes of Jason Isbell\, Ryan Adams\, and Alejandro Escovedo. The band will be debuting new music at this year’s festival. \n 
URL:https://arts-festival.com/event/ted-mccloskey-and-the-hi-fis-2/
LOCATION:Allen Street Stage\, 123 S Allen St\, State College\, PA\, 16801\, United States
CATEGORIES:Allen Street Stage,Friday
END:VEVENT
BEGIN:VEVENT
DTSTART;TZID=America/New_York:20260710T183000
DTEND;TZID=America/New_York:20260710T200000
DTSTAMP:20260419T100424
CREATED:20260418T134510Z
LAST-MODIFIED:20260418T134510Z
UID:51955-1783708200-1783713600@arts-festival.com
SUMMARY:The Byrne Brothers
DESCRIPTION:The Byrne Brothers are a phenomenal Irish family band who have taken both the traditional music scene and the digital world by storm. Originally from Dublin and now based in Orlando\, Florida\, they are celebrated for their electrifying live performances\, deep-rooted passion for Irish culture\, and ability to captivate audiences across generations with their unique blend of traditional and contemporary Irish music. With a strong presence on social media and an ever-growing international fan base\, The Byrne Brothers are redefining what it means to be ambassadors of Irish heritage in the 21st century. \n  \nThe band is made up of father Tommy Byrne (guitar\, lead vocals)\, and his three sons: Luca (button accordion\, whistles\, bodhrán)\, Finn (tenor banjo\, mandolin)\, and Dempsey (bodhrán\, bodhrán brush kit\, Irish dance). Together\, they create a powerhouse of energy and musicality\, performing everything from blistering sets of reels and jigs to soulful slow airs and vibrant songs. The inclusion of Irish dancing\, often led by the youngest member Dempsey\, adds a visual and rhythmic thrill to their performances that never fails to bring audiences to their feet.
URL:https://arts-festival.com/event/the-byrne-brothers/
LOCATION:Festival Shell Stage\, 100 W. College Avenue\, State College\, PA\, 16801\, United States
CATEGORIES:Festival Shell Stage,Friday
END:VEVENT
BEGIN:VEVENT
DTSTART;TZID=America/New_York:20260710T193000
DTEND;TZID=America/New_York:20260710T203000
DTSTAMP:20260419T100424
CREATED:20250418T133558Z
LAST-MODIFIED:20260316T184307Z
UID:49303-1783711800-1783715400@arts-festival.com
SUMMARY:The Jaded Lips
DESCRIPTION:When The Jaded Lips hit the stage\, they don’t just play music—they unleash Homegrown Rock & Soul. That’s not just their signature sound\, it’s the heartbeat of the band. The powerhouse group—Mike Wertz on vocals and guitar\, Hunter Karns on bass\, Dave Applas on drums & Greg Larrimore on guitar—bring a fiery blend of classic and modern rock\, garage grit\, blues swagger\, and R&B grooves to every show. \nTheir set crackles with energy\, echoing the legacy of the greats while carving out a space all their own. From opening for national acts like The Clarks\, Los Lobos\, Trouble No More\, The Vindys and Keller Williams\, to lighting up festival stages like Musikfest & the Flood City Music Festival\, The Jaded Lips have built a loyal following with their raw talent and undeniable chemistry. Nominated three years in row for “Best Rock Band” by the CPMA Hall of Fame & with new singles “Loose Change” & “Trouble” mastered by Grammy winner Dave Collins\, this is rock and soul the way it was meant to be heard—loud\, loose\, and alive.
URL:https://arts-festival.com/event/the-jaded-lips/
LOCATION:Allen Street Stage\, 123 S Allen St\, State College\, PA\, 16801\, United States
CATEGORIES:Allen Street Stage,Friday,Thursday
END:VEVENT
BEGIN:VEVENT
DTSTART;TZID=America/New_York:20260710T193000
DTEND;TZID=America/New_York:20260710T210000
DTSTAMP:20260419T100424
CREATED:20260316T185502Z
LAST-MODIFIED:20260316T185502Z
UID:50685-1783711800-1783717200@arts-festival.com
SUMMARY:Miss Melanie and Groove Society
DESCRIPTION:Fronted by the unstoppable Miss Melanie and Groove Society is an 8-piece funk/soul/R&B machine with a masterful 3-piece horn section and plenty of swagger. \nStacked with veteran players from professional bands across the region\, this group delivers deep grooves\, big energy\, and a dance-floor-filling show that never lets up. Be ready to move when you come see the groove with Miss Melanie and Groove Society!
URL:https://arts-festival.com/event/miss-melanie-and-groove-society/
LOCATION:Sidney Friedman Park\, 241 South Fraser Street\, State College\, PA\, 16801\, United States
CATEGORIES:Friday,Sidney Friedman Park
END:VEVENT
BEGIN:VEVENT
DTSTART;TZID=America/New_York:20260710T210000
DTEND;TZID=America/New_York:20260710T223000
DTSTAMP:20260419T100424
CREATED:20260316T183314Z
LAST-MODIFIED:20260316T183314Z
UID:50672-1783717200-1783722600@arts-festival.com
SUMMARY:Kilmaine Saints
DESCRIPTION:Kilmaine Saints are equal parts Irish Swagger\, Scottish Pride and whiskey. This explosive\, high-energy Celtic rock band from Central PA will lift your hearts\, your spirits\, and your pint when you’re not looking.
URL:https://arts-festival.com/event/kilmaine-saints/
LOCATION:Festival Shell Stage\, 100 W. College Avenue\, State College\, PA\, 16801\, United States
CATEGORIES:Festival Shell Stage,Friday
END:VEVENT
BEGIN:VEVENT
DTSTART;TZID=America/New_York:20260710T213000
DTEND;TZID=America/New_York:20260710T230000
DTSTAMP:20260419T100424
CREATED:20260316T184622Z
LAST-MODIFIED:20260316T184622Z
UID:50679-1783719000-1783724400@arts-festival.com
SUMMARY:Cass & the Bailout Crew
DESCRIPTION:Cass and The Bailout Crew are a hard-driving rock band with a flare of country soul. Fronted by powerhouse vocalist Cass Chatham\, the band delivers high-intensity shows in bars\, venues\, and festivals throughout the Northeast. With raw energy and blue-collar heart\, they blur the lines between whiskey-snorting country swagger and straight-up rock and roll. \n 
URL:https://arts-festival.com/event/cass-the-bailout-crew/
LOCATION:Allen Street Stage\, 123 S Allen St\, State College\, PA\, 16801\, United States
CATEGORIES:Allen Street Stage,Friday
END:VEVENT
END:VCALENDAR