BEGIN:VCALENDAR
VERSION:2.0
PRODID:-//Central Pennsylvania Festival of the Arts - ECPv6.15.18//NONSGML v1.0//EN
CALSCALE:GREGORIAN
METHOD:PUBLISH
X-WR-CALNAME:Central Pennsylvania Festival of the Arts
X-ORIGINAL-URL:https://arts-festival.com
X-WR-CALDESC:Events for Central Pennsylvania Festival of the Arts
REFRESH-INTERVAL;VALUE=DURATION:PT1H
X-Robots-Tag:noindex
X-PUBLISHED-TTL:PT1H
BEGIN:VTIMEZONE
TZID:America/New_York
BEGIN:DAYLIGHT
TZOFFSETFROM:-0500
TZOFFSETTO:-0400
TZNAME:EDT
DTSTART:20210314T070000
END:DAYLIGHT
BEGIN:STANDARD
TZOFFSETFROM:-0400
TZOFFSETTO:-0500
TZNAME:EST
DTSTART:20211107T060000
END:STANDARD
BEGIN:DAYLIGHT
TZOFFSETFROM:-0500
TZOFFSETTO:-0400
TZNAME:EDT
DTSTART:20220313T070000
END:DAYLIGHT
BEGIN:STANDARD
TZOFFSETFROM:-0400
TZOFFSETTO:-0500
TZNAME:EST
DTSTART:20221106T060000
END:STANDARD
BEGIN:DAYLIGHT
TZOFFSETFROM:-0500
TZOFFSETTO:-0400
TZNAME:EDT
DTSTART:20230312T070000
END:DAYLIGHT
BEGIN:STANDARD
TZOFFSETFROM:-0400
TZOFFSETTO:-0500
TZNAME:EST
DTSTART:20231105T060000
END:STANDARD
END:VTIMEZONE
BEGIN:VEVENT
DTSTART;TZID=America/New_York:20220713T060000
DTEND;TZID=America/New_York:20220713T070000
DTSTAMP:20260421T070122
CREATED:20180530T182517Z
LAST-MODIFIED:20220601T164416Z
UID:26002-1657692000-1657695600@arts-festival.com
SUMMARY:State College Suzuki Program of the Music Academy
DESCRIPTION:The State College Suzuki Program offers instruction in violin\, viola\, cello\, and piano. It is the only fully dedicated Suzuki program in the area.
URL:https://arts-festival.com/event/state-college-suzuki-program-of-the-music-academy/
LOCATION:Allen Street Stage\, 123 S Allen St\, State College\, PA\, 16801\, United States
CATEGORIES:Allen Street Stage,Wednesday
END:VEVENT
BEGIN:VEVENT
DTSTART;TZID=America/New_York:20220713T080000
DTEND;TZID=America/New_York:20220713T083000
DTSTAMP:20260421T070122
CREATED:20180530T181855Z
LAST-MODIFIED:20220531T214549Z
UID:25997-1657699200-1657701000@arts-festival.com
SUMMARY:Nittany Dreamers
DESCRIPTION:The Nittany Dreamers Baton & Silk Corps was founded in 1992 by John Mitchell\, the feature twirler of Penn State’s Blue Band. It teaches the sport of baton and silks to children from all over Centre County. The group performs at parades and events throughout Centre County including homecoming parades for State College Area High School and Penn State.
URL:https://arts-festival.com/event/nittany-dreamers/
LOCATION:Festival Shell Stage\, 100 W. College Avenue\, State College\, PA\, 16801\, United States
CATEGORIES:Festival Shell Stage,Wednesday
END:VEVENT
BEGIN:VEVENT
DTSTART;TZID=America/New_York:20220713T083000
DTEND;TZID=America/New_York:20220713T090000
DTSTAMP:20260421T070122
CREATED:20220608T214426Z
LAST-MODIFIED:20220608T214426Z
UID:41256-1657701000-1657702800@arts-festival.com
SUMMARY:Hot Styles Dance Company
DESCRIPTION:Hot Styles Dance Company has been serving the State College and Bellefonte communities since 2004. They strive to deliver the highest quality of dance training\, while nurturing each student’s unique gift of talent and creativity.  \n 
URL:https://arts-festival.com/event/hot-styles-dance-company/
LOCATION:Allen Street Stage\, 123 S Allen St\, State College\, PA\, 16801\, United States
CATEGORIES:Allen Street Stage,Wednesday
END:VEVENT
BEGIN:VEVENT
DTSTART;TZID=America/New_York:20220713T103000
DTEND;TZID=America/New_York:20220713T113000
DTSTAMP:20260421T070122
CREATED:20220611T192914Z
LAST-MODIFIED:20220711T221327Z
UID:41376-1657708200-1657711800@arts-festival.com
SUMMARY:Happy Valley Improv
DESCRIPTION:The Happy Valley Improv youth program will perform 45-minutes of improv comedy. The program consists of 5th – 12th graders who have been working together in both an after-school program and summer camps. Happy Valley Improv is proud to have these students in our community. \nHappy Valley Improv is State College’s premier longform improv company\, bringing the art of improvisation to Centre County through performances\, classes\, workshops\, and community outreach. Started by four improvisers in the basement of a church in early 2017\, the group now consists of seventeen company members performing a variety of improv styles and forms at their new home in Calder Way\, The Blue Brick Theatre.
URL:https://arts-festival.com/event/happy-valley-improv-6/
LOCATION:PA
CATEGORIES:Allen Street Stage,Wednesday
END:VEVENT
BEGIN:VEVENT
DTSTART;TZID=America/New_York:20220713T140000
DTEND;TZID=America/New_York:20220713T153000
DTSTAMP:20260421T070122
CREATED:20220620T232728Z
LAST-MODIFIED:20220620T232728Z
UID:41550-1657720800-1657726200@arts-festival.com
SUMMARY:Centred Outdoors Downtown Art Walk
DESCRIPTION:From beautiful murals that span entire blocks to small bronze pigs\, see all the art that helps to make downtown State College a vibrant place. Take an ‘art walk’ to admire the countless sculptures\, memorials\, and vibrant murals that help make State College such a special place. With inspiration of all shapes and colors around every every corner\, downtown State College is an outdoor museum with no ticket required! \nYou’ll learn more about the sculptures\, memorials\, and vibrant murals that casual passersby take for granted. Each piece tells an important story thanks to the talented artists who have shared their expressions of admiration for the people and places who have shaped our region. What new new pieces of art you can find this year? \nThe walk starts at 3 Dots\, 137 East Beaver Avenue\, State College and is approximately 1.5 miles long. \nThe tour will also be given on Sunday\,  July 10 at 1:00 p.m. and at 3:00 p.m. 
URL:https://arts-festival.com/event/centred-outdoors-downtown-art-walk/
LOCATION:PA
CATEGORIES:Wednesday
END:VEVENT
END:VCALENDAR